BEGIN:VCALENDAR
PRODID:-//AT Content Types//AT Event//EN
VERSION:2.0
METHOD:PUBLISH
BEGIN:VEVENT
DTSTAMP:20260423T180026Z
CREATED:20230419T070738Z
UID:ATEvent-6202429b4c78477089d8013047ed2f12
LAST-MODIFIED:20230419T070822Z
SUMMARY:Sessió Constitutiva
DTSTART:20230426T100000Z
DTEND:20230426T161000Z
CLASS:PUBLIC
END:VEVENT
END:VCALENDAR
