BEGIN:VCALENDAR
PRODID:-//AT Content Types//AT Event//EN
VERSION:2.0
METHOD:PUBLISH
BEGIN:VEVENT
DTSTAMP:20260423T095143Z
CREATED:20150311T080134Z
UID:ATEvent-d80a46b3b95f45f28c617e74a07c7b02
LAST-MODIFIED:20150311T080141Z
SUMMARY:Visites guiades familiars
DTSTART:20150313T173000Z
DTEND:20150313T173000Z
LOCATION:Nou edifici del Consell General i Casa de la Vall
CLASS:PUBLIC
END:VEVENT
END:VCALENDAR
