BEGIN:VCALENDAR
PRODID:-//AT Content Types//AT Event//EN
VERSION:1.0
BEGIN:VEVENT
DTSTART:20150210T113000Z
DTEND:20150210T113000Z
DCREATED:20150206T074839Z
UID:ATEvent-131e3a23940c4845b6d758a2591b569c
SEQUENCE:0
LAST-MODIFIED:20150206T074847Z
SUMMARY:Visita del representant del copríncep francès\, Sr. Thierry Lataste
LOCATION:Nova seu planta 2
PRIORITY:3
TRANSP:0
END:VEVENT
END:VCALENDAR
