BEGIN:VCALENDAR
PRODID:-//AT Content Types//AT Event//EN
VERSION:1.0
BEGIN:VEVENT
DTSTART:20141103T104500Z
DTEND:20141103T104500Z
DCREATED:20141030T120231Z
UID:ATEvent-a6c4b486b4c74b83bf4a44b4d0b40238
SEQUENCE:0
LAST-MODIFIED:20141104T091122Z
SUMMARY:Visita de la secretària general de la SEGIB
LOCATION:Casa de la Vall
PRIORITY:3
TRANSP:0
END:VEVENT
END:VCALENDAR
