BEGIN:VCALENDAR
PRODID:-//AT Content Types//AT Event//EN
VERSION:1.0
BEGIN:VEVENT
DTSTART:20231222T103000Z
DTEND:20231222T113000Z
DCREATED:20231222T092048Z
UID:ATEvent-d13e24bfdbd74c998179c2b28173ab91
SEQUENCE:0
LAST-MODIFIED:20231222T092103Z
SUMMARY:Sindicatura
LOCATION:Consell General (planta +2).
PRIORITY:3
TRANSP:0
END:VEVENT
END:VCALENDAR
