BEGIN:VCALENDAR
PRODID:-//AT Content Types//AT Event//EN
VERSION:1.0
BEGIN:VEVENT
DTSTART:20191220T110000Z
DTEND:20191220T110000Z
DCREATED:20190620T114318Z
UID:ATEvent-5c3cbbce7c1a479786f2cb65dbfa7fca
SEQUENCE:0
LAST-MODIFIED:20191212T093219Z
SUMMARY:Sessió tradicional de Sant Tomàs
LOCATION:Casa de la Vall - Hemicicle
PRIORITY:3
TRANSP:0
END:VEVENT
END:VCALENDAR
