BEGIN:VCALENDAR
PRODID:-//AT Content Types//AT Event//EN
VERSION:2.0
METHOD:PUBLISH
BEGIN:VEVENT
DTSTAMP:20260422T101438Z
CREATED:20170203T122053Z
UID:ATEvent-74bff74102794f3fa1b18715142be543
LAST-MODIFIED:20170203T122507Z
SUMMARY:Sessió tradicional de la Constitució
DTSTART:20170314T170000Z
DTEND:20170314T170000Z
LOCATION:Casa de la Vall - Hemicicle
CLASS:PUBLIC
END:VEVENT
END:VCALENDAR
