BEGIN:VCALENDAR
PRODID:-//AT Content Types//AT Event//EN
VERSION:2.0
METHOD:PUBLISH
BEGIN:VEVENT
DTSTAMP:20260423T043126Z
CREATED:20210304T122948Z
UID:ATEvent-c5d6053245a1438397311c62f9ff285d
LAST-MODIFIED:20210304T123008Z
SUMMARY:Sessió plenària del 19è Consell General dels Joves
DTSTART:20210317T090000Z
DTEND:20210317T090000Z
LOCATION:Nova seu Planta -2 Hemicicle
CLASS:PUBLIC
END:VEVENT
END:VCALENDAR
