BEGIN:VCALENDAR
PRODID:-//AT Content Types//AT Event//EN
VERSION:2.0
METHOD:PUBLISH
BEGIN:VEVENT
DTSTAMP:20260423T154442Z
CREATED:20140317T120237Z
UID:ATEvent-f27e8762c8a344829b0e2f43470f9cc7
LAST-MODIFIED:20140326T072842Z
SUMMARY:Sessió plenària del 12è Consell General dels Joves
DTSTART:20140326T150000Z
DTEND:20140326T150000Z
LOCATION:Nova seu Planta -2 Hemicicle
CLASS:PUBLIC
END:VEVENT
END:VCALENDAR
