BEGIN:VCALENDAR
PRODID:-//AT Content Types//AT Event//EN
VERSION:2.0
METHOD:PUBLISH
BEGIN:VEVENT
DTSTAMP:20260423T132952Z
CREATED:20240311T115216Z
UID:ATEvent-1eadbe88982e4247bd670b7d9643265e
LAST-MODIFIED:20240311T115643Z
SUMMARY:Sessió ordinària del Consell General
DTSTART:20240312T140000Z
DTEND:20240312T160000Z
LOCATION:Hemicicle del Consell General (planta -2)
CLASS:PUBLIC
END:VEVENT
END:VCALENDAR
