BEGIN:VCALENDAR
PRODID:-//AT Content Types//AT Event//EN
VERSION:2.0
METHOD:PUBLISH
BEGIN:VEVENT
DTSTAMP:20260423T095337Z
CREATED:20231120T084823Z
UID:ATEvent-efbf5d2f70ef4eaf97929e68914ce58e
LAST-MODIFIED:20231128T120545Z
SUMMARY:Comissió Legislativa de Finances i Pressupost
DTSTART:20231130T083000Z
DTEND:20231130T113000Z
CLASS:PUBLIC
END:VEVENT
END:VCALENDAR
