BEGIN:VCALENDAR
PRODID:-//AT Content Types//AT Event//EN
VERSION:2.0
METHOD:PUBLISH
BEGIN:VEVENT
DTSTAMP:20260419T220903Z
CREATED:20230705T133947Z
UID:ATEvent-c2cdbf7f316f46bda68cbd2b69e32100
LAST-MODIFIED:20230713T174253Z
SUMMARY:Sessió ordinària del Consell General
DTSTART:20230713T140000Z
DTEND:20230713T160000Z
LOCATION:Nova seu Planta -2 Hemicicle
CLASS:PUBLIC
END:VEVENT
END:VCALENDAR
