BEGIN:VCALENDAR
PRODID:-//AT Content Types//AT Event//EN
VERSION:2.0
METHOD:PUBLISH
BEGIN:VEVENT
DTSTAMP:20260421T033235Z
CREATED:20220607T143527Z
UID:ATEvent-53e2974eaea44595998d37e1f83d8184
LAST-MODIFIED:20220607T150601Z
SUMMARY:Sessió ordinària del Consell General
DTSTART:20220609T130000Z
DTEND:20220609T130000Z
LOCATION:Nova seu Planta -2 Hemicicle
CLASS:PUBLIC
END:VEVENT
END:VCALENDAR
