BEGIN:VCALENDAR
PRODID:-//AT Content Types//AT Event//EN
VERSION:1.0
BEGIN:VEVENT
DTSTART:20201005T140000Z
DTEND:20201005T140000Z
DCREATED:20201002T061917Z
UID:ATEvent-6ad921138ba44f27a7cff0a50409d4fe
SEQUENCE:0
LAST-MODIFIED:20201002T061920Z
SUMMARY:Sessió ordinària del Consell  General
LOCATION:Nova seu Planta -2 Hemicicle
PRIORITY:3
TRANSP:0
END:VEVENT
END:VCALENDAR
