BEGIN:VCALENDAR
PRODID:-//AT Content Types//AT Event//EN
VERSION:2.0
METHOD:PUBLISH
BEGIN:VEVENT
DTSTAMP:20260419T161421Z
CREATED:20200909T155817Z
UID:ATEvent-b43fa2fd4d3f4520a00c1baaf57c3724
LAST-MODIFIED:20200917T110229Z
SUMMARY:Sessió ordinària del Consell General
DTSTART:20200917T140000Z
DTEND:20200917T140000Z
LOCATION:Nova seu Planta -2 Hemicicle
CLASS:PUBLIC
END:VEVENT
END:VCALENDAR
