BEGIN:VCALENDAR
PRODID:-//AT Content Types//AT Event//EN
VERSION:2.0
METHOD:PUBLISH
BEGIN:VEVENT
DTSTAMP:20260421T020141Z
CREATED:20200522T090105Z
UID:ATEvent-d74610c54405402b9b093c4fb3f564d1
LAST-MODIFIED:20200523T095123Z
SUMMARY:Sessió ordinària del Consell  General
DTSTART:20200525T080000Z
DTEND:20200525T080000Z
LOCATION:Nova seu Planta -2 Hemicicle
CLASS:PUBLIC
END:VEVENT
END:VCALENDAR
