BEGIN:VCALENDAR
PRODID:-//AT Content Types//AT Event//EN
VERSION:1.0
BEGIN:VEVENT
DTSTART:20200116T150000Z
DTEND:20200116T150000Z
DCREATED:20200108T073400Z
UID:ATEvent-fdaf9b28e218447f921dc4f866c3dc65
SEQUENCE:0
LAST-MODIFIED:20200116T192056Z
SUMMARY:Sessió ordinària del Consell General
LOCATION:Nova seu Planta -2 Hemicicle
PRIORITY:3
TRANSP:0
END:VEVENT
END:VCALENDAR
