BEGIN:VCALENDAR
PRODID:-//AT Content Types//AT Event//EN
VERSION:2.0
METHOD:PUBLISH
BEGIN:VEVENT
DTSTAMP:20260423T154322Z
CREATED:20190906T152318Z
UID:ATEvent-26dfa1f65dce4465b350f9b6a4699d88
LAST-MODIFIED:20190911T155736Z
SUMMARY:Sessió ordinària del Consell General
DTSTART:20190912T100000Z
DTEND:20190912T100000Z
LOCATION:Nova seu Planta -2 Hemicicle
CLASS:PUBLIC
END:VEVENT
END:VCALENDAR
