BEGIN:VCALENDAR
PRODID:-//AT Content Types//AT Event//EN
VERSION:2.0
METHOD:PUBLISH
BEGIN:VEVENT
DTSTAMP:20260424T151820Z
CREATED:20190709T165108Z
UID:ATEvent-621b696db78c4b88800010ea4fec348a
LAST-MODIFIED:20190709T165117Z
SUMMARY:Sessió ordinària del Consell General
DTSTART:20190711T133000Z
DTEND:20190711T133000Z
LOCATION:Nova seu planta- 2 hemicicle
CLASS:PUBLIC
END:VEVENT
END:VCALENDAR
