BEGIN:VCALENDAR
PRODID:-//AT Content Types//AT Event//EN
VERSION:1.0
BEGIN:VEVENT
DTSTART:20180918T073000Z
DTEND:20180918T073000Z
DCREATED:20180904T135021Z
UID:ATEvent-382019c2371840729c8e6a0df06032bd
SEQUENCE:0
LAST-MODIFIED:20180904T135025Z
SUMMARY:Sessió ordinària del Consell General
LOCATION:Nova seu Planta -2 Hemicicle
PRIORITY:3
TRANSP:0
END:VEVENT
END:VCALENDAR
