BEGIN:VCALENDAR
PRODID:-//AT Content Types//AT Event//EN
VERSION:1.0
BEGIN:VEVENT
DTSTART:20171130T080000Z
DTEND:20171130T080000Z
DCREATED:20171128T141251Z
UID:ATEvent-3e3fd7a0d528494bb5201dc3661d2169
SEQUENCE:0
LAST-MODIFIED:20171128T154500Z
SUMMARY:Sessió ordinària del Consell General
LOCATION:Nova seu Planta -2 Hemicicle
PRIORITY:3
TRANSP:0
END:VEVENT
END:VCALENDAR
