BEGIN:VCALENDAR
PRODID:-//AT Content Types//AT Event//EN
VERSION:1.0
BEGIN:VEVENT
DTSTART:20171116T080000Z
DTEND:20171116T080000Z
DCREATED:20171107T094432Z
UID:ATEvent-a41aca31672b4ab2991ac1753132257e
SEQUENCE:0
LAST-MODIFIED:20171107T094437Z
SUMMARY:Sessió ordinària del Consell General
LOCATION:Nova seu Planta -2 Hemicicle
PRIORITY:3
TRANSP:0
END:VEVENT
END:VCALENDAR
