BEGIN:VCALENDAR
PRODID:-//AT Content Types//AT Event//EN
VERSION:2.0
METHOD:PUBLISH
BEGIN:VEVENT
DTSTAMP:20260422T082403Z
CREATED:20171024T100142Z
UID:ATEvent-8444a46712644e81bef38e818896d846
LAST-MODIFIED:20171025T140941Z
SUMMARY:Sessió ordinària del Consell General
DTSTART:20171027T100000Z
DTEND:20171027T100000Z
LOCATION:Nova seu Planta -2 Hemicicle
CLASS:PUBLIC
END:VEVENT
END:VCALENDAR
