BEGIN:VCALENDAR
PRODID:-//AT Content Types//AT Event//EN
VERSION:2.0
METHOD:PUBLISH
BEGIN:VEVENT
DTSTAMP:20260424T094802Z
CREATED:20171016T084205Z
UID:ATEvent-c5c7c26d02764649bef861a1517302ff
LAST-MODIFIED:20171017T140502Z
SUMMARY:Sessió ordinària del Consell General
DTSTART:20171020T080000Z
DTEND:20171020T080000Z
LOCATION:Nova seu Planta -2 Hemicicle
CLASS:PUBLIC
END:VEVENT
END:VCALENDAR
