BEGIN:VCALENDAR
PRODID:-//AT Content Types//AT Event//EN
VERSION:1.0
BEGIN:VEVENT
DTSTART:20160616T073000Z
DTEND:20160616T073000Z
DCREATED:20160302T071804Z
UID:ATEvent-0b46d8df2d33494bb441cea6400896a4
SEQUENCE:0
LAST-MODIFIED:20160616T064544Z
SUMMARY:Sessió ordinària del Consell General
LOCATION:Nova seu Planta -2 Hemicicle
PRIORITY:3
TRANSP:0
END:VEVENT
END:VCALENDAR
