BEGIN:VCALENDAR
PRODID:-//AT Content Types//AT Event//EN
VERSION:1.0
BEGIN:VEVENT
DTSTART:20160428T073000Z
DTEND:20160428T073000Z
DCREATED:20160302T071648Z
UID:ATEvent-f467d26e18574e5aa45e6b11c01fdd81
SEQUENCE:0
LAST-MODIFIED:20160427T205026Z
SUMMARY:Sessió ordinària del Consell General
LOCATION:Nova seu Planta -2 Hemicicle
PRIORITY:3
TRANSP:0
END:VEVENT
END:VCALENDAR
