BEGIN:VCALENDAR
PRODID:-//AT Content Types//AT Event//EN
VERSION:2.0
METHOD:PUBLISH
BEGIN:VEVENT
DTSTAMP:20260421T061750Z
CREATED:20140317T111626Z
UID:ATEvent-c409a4fa0fb940d3b8759bafbd95854e
LAST-MODIFIED:20140509T113821Z
SUMMARY:Sessió ordinària del Consell General
DTSTART:20140508T140000Z
DTEND:20140508T140000Z
LOCATION:Nova seu Planta -2 Hemicicle
CLASS:PUBLIC
END:VEVENT
END:VCALENDAR
