BEGIN:VCALENDAR
PRODID:-//AT Content Types//AT Event//EN
VERSION:2.0
METHOD:PUBLISH
BEGIN:VEVENT
DTSTAMP:20260420T000138Z
CREATED:20140620T121954Z
UID:ATEvent-0d119444fd984b30a101e01bc04a9b0c
LAST-MODIFIED:20140620T122306Z
SUMMARY:Sessió ordinària del Consell General
DTSTART:20140620T143000Z
DTEND:20140620T143000Z
LOCATION:Nova seu Planta -2 Hemicicle
CLASS:PUBLIC
END:VEVENT
END:VCALENDAR
