BEGIN:VCALENDAR
PRODID:-//AT Content Types//AT Event//EN
VERSION:1.0
BEGIN:VEVENT
DTSTART:20190118T083000Z
DTEND:20190118T083000Z
DCREATED:20190117T214327Z
UID:ATEvent-eecce6dad6e3449d87fa1cc778bf65c6
SEQUENCE:0
LAST-MODIFIED:20190117T214549Z
SUMMARY:Sessió extraordinària del Consell General
PRIORITY:3
TRANSP:0
END:VEVENT
END:VCALENDAR
