BEGIN:VCALENDAR
PRODID:-//AT Content Types//AT Event//EN
VERSION:2.0
METHOD:PUBLISH
BEGIN:VEVENT
DTSTAMP:20260422T135950Z
CREATED:20180528T070514Z
UID:ATEvent-e98b445b9bf44d05b60797a4bdd0d631
LAST-MODIFIED:20180528T070516Z
SUMMARY:Sessió del Consell General
DTSTART:20180531T073000Z
DTEND:20180531T073000Z
LOCATION:Nova seu Planta -2 Hemicicle
CLASS:PUBLIC
END:VEVENT
END:VCALENDAR
