BEGIN:VCALENDAR
PRODID:-//AT Content Types//AT Event//EN
VERSION:1.0
BEGIN:VEVENT
DTSTART:20231206T150000Z
DTEND:20231206T180000Z
DCREATED:20231005T084943Z
UID:ATEvent-58f0cc11a2384993be7ff9f83fba2d56
SEQUENCE:0
LAST-MODIFIED:20231130T171248Z
SUMMARY:Sessió de Consell General
PRIORITY:3
TRANSP:0
END:VEVENT
END:VCALENDAR
