BEGIN:VCALENDAR
PRODID:-//AT Content Types//AT Event//EN
VERSION:2.0
METHOD:PUBLISH
BEGIN:VEVENT
DTSTAMP:20260423T170507Z
CREATED:20231005T084146Z
UID:ATEvent-3a3843a4d1a24436ac1633e066a764d0
LAST-MODIFIED:20231018T111706Z
SUMMARY:Sessió de Consell General (Preguntes al Govern)
DTSTART:20231018T140000Z
DTEND:20231018T164500Z
CLASS:PUBLIC
END:VEVENT
END:VCALENDAR
