BEGIN:VCALENDAR
PRODID:-//AT Content Types//AT Event//EN
VERSION:1.0
BEGIN:VEVENT
DTSTART:20240411T140000Z
DTEND:20240411T165500Z
DCREATED:20240402T105343Z
UID:ATEvent-e7bf900818894e55b71a4f7f2c82133a
SEQUENCE:0
LAST-MODIFIED:20240411T112004Z
SUMMARY:Sessió de Consell General (Preguntes al Govern)
PRIORITY:3
TRANSP:0
END:VEVENT
END:VCALENDAR
