BEGIN:VCALENDAR
PRODID:-//AT Content Types//AT Event//EN
VERSION:1.0
BEGIN:VEVENT
DTSTART:20250123T150000Z
DTEND:20250123T190000Z
DCREATED:20250120T162438Z
UID:ATEvent-9b5066f31b0f4b60ab20d963619406e3
SEQUENCE:0
LAST-MODIFIED:20250120T164739Z
SUMMARY:Sessió de Consell General
LOCATION:Hemicicle del Consell General (planta -2)
PRIORITY:3
TRANSP:0
END:VEVENT
END:VCALENDAR
