BEGIN:VCALENDAR
PRODID:-//AT Content Types//AT Event//EN
VERSION:1.0
BEGIN:VEVENT
DTSTART:20240620T133000Z
DTEND:20240620T135500Z
DCREATED:20240618T201711Z
UID:ATEvent-1eca9df6c59d45bd9315e1150e94b954
SEQUENCE:0
LAST-MODIFIED:20240618T201720Z
SUMMARY:Sessió de Consell General
PRIORITY:3
TRANSP:0
END:VEVENT
END:VCALENDAR
