BEGIN:VCALENDAR
PRODID:-//AT Content Types//AT Event//EN
VERSION:1.0
BEGIN:VEVENT
DTSTART:20240919T140000Z
DTEND:20240919T170000Z
DCREATED:20240829T160809Z
UID:ATEvent-771f0008888a461a97ae8d7788f0b4a4
SEQUENCE:0
LAST-MODIFIED:20240919T121503Z
SUMMARY:Sessió de Consell General
DESCRIPTION:Sessió de preguntes al Govern d'Andorra
LOCATION:Nou Hemicicle - Planta -2
PRIORITY:3
TRANSP:0
END:VEVENT
END:VCALENDAR
