BEGIN:VCALENDAR
PRODID:-//AT Content Types//AT Event//EN
VERSION:2.0
METHOD:PUBLISH
BEGIN:VEVENT
DTSTAMP:20260422T151709Z
CREATED:20240829T162209Z
UID:ATEvent-9dffa1dadbb049909aac2fa367fba6e4
LAST-MODIFIED:20241217T100202Z
SUMMARY:Sessió de Consell General
DTSTART:20241219T150000Z
DTEND:20241219T180000Z
LOCATION:Nou Hemicicle - Planta -2
CLASS:PUBLIC
END:VEVENT
END:VCALENDAR
