BEGIN:VCALENDAR
PRODID:-//AT Content Types//AT Event//EN
VERSION:2.0
METHOD:PUBLISH
BEGIN:VEVENT
DTSTAMP:20260426T024616Z
CREATED:20231005T084347Z
UID:ATEvent-55d83c3d18fa4bd99f072c8b0cc0f7cc
LAST-MODIFIED:20231114T205336Z
SUMMARY:Sessió de Consell General
DTSTART:20231115T140000Z
DTEND:20231115T180000Z
CLASS:PUBLIC
END:VEVENT
END:VCALENDAR
