BEGIN:VCALENDAR
PRODID:-//AT Content Types//AT Event//EN
VERSION:1.0
BEGIN:VEVENT
DTSTART:20201021T093000Z
DTEND:20201021T093000Z
DCREATED:20201019T145549Z
UID:ATEvent-f663f0681928487089150a46a6e0490c
SEQUENCE:0
LAST-MODIFIED:20201019T145609Z
SUMMARY:Roda de premsa del Grup Parlamentari Socialdemòcrata
LOCATION:Nova seu Planta -3 sala de compareixences públiques
PRIORITY:3
TRANSP:0
END:VEVENT
END:VCALENDAR
