BEGIN:VCALENDAR
PRODID:-//AT Content Types//AT Event//EN
VERSION:2.0
METHOD:PUBLISH
BEGIN:VEVENT
DTSTAMP:20260420T132915Z
CREATED:20200210T101934Z
UID:ATEvent-3df77accfdfa44ff8377e26144a097c8
LAST-MODIFIED:20200909T161842Z
SUMMARY:Roda de premsa: Premis d’Innovació Educativa Principat d’Andorra
DTSTART:20200914T100000Z
DTEND:20200914T100000Z
LOCATION:Nova seu Planta -3 sala de compareixences públiques
CLASS:PUBLIC
END:VEVENT
END:VCALENDAR
