BEGIN:VCALENDAR
PRODID:-//AT Content Types//AT Event//EN
VERSION:2.0
METHOD:PUBLISH
BEGIN:VEVENT
DTSTAMP:20260421T100022Z
CREATED:20220422T130749Z
UID:ATEvent-0c4a1249150344b48ff64d1a1ea65dab
LAST-MODIFIED:20220426T090838Z
SUMMARY:Roda de premsa del Grup Parlamentari Socialdemòcrata
DTSTART:20220425T103000Z
DTEND:20220425T103000Z
LOCATION:Nova seu Planta 0 sala de premsa
CLASS:PUBLIC
END:VEVENT
END:VCALENDAR
