BEGIN:VCALENDAR
PRODID:-//AT Content Types//AT Event//EN
VERSION:2.0
METHOD:PUBLISH
BEGIN:VEVENT
DTSTAMP:20260424T074729Z
CREATED:20220414T112012Z
UID:ATEvent-59086dc4015049dfab18638a51c06d1b
LAST-MODIFIED:20220414T183832Z
SUMMARY:Roda de premsa del Grup Parlamentari Socialdemòcrata
DTSTART:20220420T100000Z
DTEND:20220420T100000Z
CLASS:PUBLIC
END:VEVENT
END:VCALENDAR
