BEGIN:VCALENDAR
PRODID:-//AT Content Types//AT Event//EN
VERSION:2.0
METHOD:PUBLISH
BEGIN:VEVENT
DTSTAMP:20260422T202055Z
CREATED:20220117T105259Z
UID:ATEvent-aebc7ae997594dc397aac559d3426c44
LAST-MODIFIED:20220118T081005Z
SUMMARY:Roda de premsa del Grup Parlamentari Socialdemòcrata
DTSTART:20220119T110000Z
DTEND:20220119T110000Z
LOCATION:Telemàtica
CLASS:PUBLIC
END:VEVENT
END:VCALENDAR
