BEGIN:VCALENDAR
PRODID:-//AT Content Types//AT Event//EN
VERSION:1.0
BEGIN:VEVENT
DTSTART:20200116T110000Z
DTEND:20200116T110000Z
DCREATED:20200115T193609Z
UID:ATEvent-b7530833102942fe908b3cba657d8a65
SEQUENCE:0
LAST-MODIFIED:20200115T193627Z
SUMMARY:Roda de premsa del Grup Parlamentari Socialdemòcrata
LOCATION:Nova seu planta 0 sala de premsa
PRIORITY:3
TRANSP:0
END:VEVENT
END:VCALENDAR
