BEGIN:VCALENDAR
PRODID:-//AT Content Types//AT Event//EN
VERSION:2.0
METHOD:PUBLISH
BEGIN:VEVENT
DTSTAMP:20260423T144108Z
CREATED:20210301T104859Z
UID:ATEvent-9c6a6ce5088a4366a2815d70e1fec8db
LAST-MODIFIED:20210301T104906Z
SUMMARY:Roda de premsa del Grup Parlamentari Demòcrata\, Liberal i Ciutadans Compromesos.
DTSTART:20210301T151500Z
DTEND:20210301T151500Z
LOCATION:Nova seu Planta 0 sala de premsa
CLASS:PUBLIC
END:VEVENT
END:VCALENDAR
