BEGIN:VCALENDAR
PRODID:-//AT Content Types//AT Event//EN
VERSION:1.0
BEGIN:VEVENT
DTSTART:20210716T090000Z
DTEND:20210716T090000Z
DCREATED:20210715T084924Z
UID:ATEvent-f0b27967158f42e88561acfa0eac72e6
SEQUENCE:0
LAST-MODIFIED:20210715T084928Z
SUMMARY:Roda de premsa del Grup Parlamentari Demòcrata\, Liberal i Ciutadans Compromesos.
DESCRIPTION:telemàtica
PRIORITY:3
TRANSP:0
END:VEVENT
END:VCALENDAR
