BEGIN:VCALENDAR
PRODID:-//AT Content Types//AT Event//EN
VERSION:1.0
BEGIN:VEVENT
DTSTART:20200121T103000Z
DTEND:20200121T103000Z
DCREATED:20200120T121424Z
UID:ATEvent-2b6c604fa80a4d92adc85ae730a5ccd4
SEQUENCE:0
LAST-MODIFIED:20200120T121427Z
SUMMARY:Roda de premsa del Grup Parlamentari Demòcrata\, Grup Parlamentari Liberal i Grup Parlamentari Ciutadans Compromesos.
LOCATION:Nova seu Planta 0 sala de premsa
PRIORITY:3
TRANSP:0
END:VEVENT
END:VCALENDAR
