BEGIN:VCALENDAR
PRODID:-//AT Content Types//AT Event//EN
VERSION:1.0
BEGIN:VEVENT
DTSTART:20240206T153000Z
DTEND:20240206T170000Z
DCREATED:20240206T171310Z
UID:ATEvent-fdde221785da45aaa027ee93927f2c79
SEQUENCE:0
LAST-MODIFIED:20240206T171315Z
SUMMARY:Roda de premsa del GPD i GPCC
PRIORITY:3
TRANSP:0
END:VEVENT
END:VCALENDAR
