BEGIN:VCALENDAR
PRODID:-//AT Content Types//AT Event//EN
VERSION:1.0
BEGIN:VEVENT
DTSTART:20230629T133000Z
DTEND:20230629T140000Z
DCREATED:20230626T155902Z
UID:ATEvent-b92f37fd5f684771a65851964b0a8d49
SEQUENCE:0
LAST-MODIFIED:20230627T083900Z
SUMMARY:Roda de premsa. Consell Obert
PRIORITY:3
TRANSP:0
END:VEVENT
END:VCALENDAR
