BEGIN:VCALENDAR
PRODID:-//AT Content Types//AT Event//EN
VERSION:1.0
BEGIN:VEVENT
DTSTART:20161206T110000Z
DTEND:20161206T110000Z
DCREATED:20161202T095455Z
UID:ATEvent-4bdc0cdd0ec84048881111a3ca7ecc49
SEQUENCE:0
LAST-MODIFIED:20161202T095500Z
SUMMARY:Roda de premsa
LOCATION:Nova seu Planta 0 Sala de premsa
PRIORITY:3
TRANSP:0
END:VEVENT
END:VCALENDAR
